BEGIN:VCALENDAR
VERSION:2.0
PRODID:spatie/icalendar-generator
DESCRIPTION:Évènements de 
X-WR-CALDESC:Évènements de 
REFRESH-INTERVAL;VALUE=DURATION:PT1440M
X-PUBLISHED-TTL:PT1440M
BEGIN:VTIMEZONE
TZID:Europe/Paris
BEGIN:STANDARD
DTSTART:20251026T030000Z
TZOFFSETFROM:+0200
TZOFFSETTO:+0100
END:STANDARD
BEGIN:DAYLIGHT
DTSTART:20260329T020000Z
TZOFFSETFROM:+0100
TZOFFSETTO:+0200
END:DAYLIGHT
BEGIN:STANDARD
DTSTART:20261025T030000Z
TZOFFSETFROM:+0200
TZOFFSETTO:+0100
END:STANDARD
END:VTIMEZONE
BEGIN:VTIMEZONE
TZID:UTC
BEGIN:STANDARD
DTSTART:20250726T172106Z
TZOFFSETFROM:+0000
TZOFFSETTO:+0000
END:STANDARD
END:VTIMEZONE
BEGIN:VEVENT
UID:252-217
DTSTAMP:20260422T172106Z
SUMMARY:Sortie avril 5 2026
LOCATION:
ORGANIZER;CN=Andrew Richards:MAILTO:andrew.richards@scurvemarketing.com
DTSTART;TZID=Europe/Paris:20260405T083000
DTEND;TZID=Europe/Paris:20260405T120000
X-ALT-DESC;FMTTYPE=TEXT/HTML:Groupes 1-2-3 : 81 km : Landrevarzec\, Landuda
 l\, Langolen\, Coray\, Tregourez\, St Thois\, Lennon\, Gouezec\, Lothey. G
 roupe 4: 51 km : Briec\, Landudal\, Langolen (Croaz hent)\, Briec
CATEGORIES:General
URL;VALUE=URI:https://cyclosdelaulne.info/mc-events/sortie-avril-5-2026/
METHOD:PUBLISH
END:VEVENT
BEGIN:VEVENT
UID:253-218
DTSTAMP:20260422T172106Z
SUMMARY:Sortie avril 12 2026
LOCATION:
ORGANIZER;CN=Andrew Richards:MAILTO:andrew.richards@scurvemarketing.com
DTSTART;TZID=Europe/Paris:20260412T083000
DTEND;TZID=Europe/Paris:20260412T093000
X-ALT-DESC;FMTTYPE=TEXT/HTML:Groupes 1-2-3 : 74 km : Guily Glas\, Le Pont d
 e St Sebastien\, Pont de Buis\, Ty Jopic\, Le Faou\, Rumengol\, Hanvec\, H
 aut de l'H6pital Canfrout\, Lanvoy\, Le Faou\, Rosnoen. Groupe 4 : 50km : 
 Pont de Buis\, Saint Segal\, Tachennic\, Croaz Ru\, Pont Coblant\, Cabaret
 \, Trois Croix\, La Magdeleine\, D770
CATEGORIES:General
URL;VALUE=URI:https://cyclosdelaulne.info/mc-events/sortie-avril-12-2026/
METHOD:PUBLISH
END:VEVENT
BEGIN:VEVENT
UID:254-219
DTSTAMP:20260422T172106Z
SUMMARY:Sortie avril 19 2026
LOCATION:
ORGANIZER;CN=Andrew Richards:MAILTO:andrew.richards@scurvemarketing.com
DTSTART;TZID=Europe/Paris:20260419T083000
DTEND;TZID=Europe/Paris:20260419T093000
X-ALT-DESC;FMTTYPE=TEXT/HTML:Groupes 1-2-3 : 83 km : Cast\, Locronan\, Doua
 rnenez\, Poul­ Ian\, Confort\, Pouldavid\, Le Juch\, Plogonnec\, Cast Gro
 upe 4 : 47km : Cast\, Locronan\, Plogonnec\, Moulin du Lay
CATEGORIES:General
URL;VALUE=URI:https://cyclosdelaulne.info/mc-events/sortie-avril-19-2026/
METHOD:PUBLISH
END:VEVENT
BEGIN:VEVENT
UID:255-220
DTSTAMP:20260422T172106Z
SUMMARY:Sortie 26 avril 2026
LOCATION:
ORGANIZER;CN=Andrew Richards:MAILTO:andrew.richards@scurvemarketing.com
DTSTART;TZID=Europe/Paris:20260426T083000
DTEND;TZID=Europe/Paris:20260426T093000
X-ALT-DESC;FMTTYPE=TEXT/HTML:Groupes 1-2-3 :: 80 km : Dineault\, Argol\, La
 ndevenec\, Le Loch\, Lugunar\, Maison Blanche\, Tai Ar Groas\, L'Aber\, St
  Jean\, St Nie\, Plomodiern Groupe 4:: 50km: Sainte Marie Menez Hom\, Telg
 ruc\, « la gare »\, Kergonan\, Argol\, Tregarvan\, Dineault
CATEGORIES:General
URL;VALUE=URI:https://cyclosdelaulne.info/mc-events/sortie-26-avril-2026/
METHOD:PUBLISH
END:VEVENT
END:VCALENDAR